BEGIN:VCALENDAR
VERSION:2.0
PRODID:-//wp-events-plugin.com//7.2.3.1//EN
TZID:Europe/London
X-WR-TIMEZONE:Europe/London
BEGIN:VEVENT
UID:84@oxon.bcs.org
DTSTART;TZID=Europe/London:20240515T193000
DTEND;TZID=Europe/London:20240515T210000
DTSTAMP:20241116T065405Z
URL:https://oxon.bcs.org/programme/countering-dyslexia-adverse-effects-wit
 h-large-language-models-llms-like-chatgpt/
SUMMARY:Countering Dyslexia Adverse Effects with Large Language Models (LLM
 s) like ChatGPT
DESCRIPTION:\nAntonio Hidalgo-Landa\, Chair\, BCS Consultancy Specialist Gr
 oup\nExplore the transformative power of technology in overcoming dyslexia
  challenges. Join Antonio Hidalgo-Landa for an insightful talk on leveragi
 ng Large Language Models (LLMs) to support learning differences. Discover 
 how these innovations are reshaping education and accessibility. This sess
 ion invites you to ponder the evolving role of technology in learning and 
 its potential implications. Antonio will share practical strategies that h
 arness LLMs to mitigate dyslexia's impact. This discussion also prompts us
  to consider the evolving role of technology in education. As we delve int
 o the possibilities of LLMs\, let's ponder: Could there be a future where 
 relying on machines alters the dynamics of creative thinking? Be part of t
 his engaging conversation and broaden your perspective on education and te
 chnology. Your input and feedback on these techniques are invaluable. We'r
 e eager to connect with those who can benefit and learn from your experien
 ces too. Join us for an engaging discussion that offers a fresh perspectiv
 e on learning\, technology\, and empowerment.\nBio:\nAntonio Hidalgo-Landa
 \, a Senior Technical Account Manager at a leading pharmaceutical traceabi
 lity solution provider\, is a strong contributor to the industry's digital
  transformation. He also chairs the BCS Consultancy Specialist Group\, sho
 wcasing his commitment to professional growth and knowledge dissemination.
  Overcoming dyslexia himself\, Antonio is fervently dedicated to employing
  technology\, including Large Language Models (LLMs) like ChatGPT\, to bol
 ster accessibility and inclusivity. With a background in Artificial Intell
 igence\, Antonio bridges innovation and empowerment\, investigating how LL
 Ms can effectively counter dyslexia's challenges.\nThis event is supported
  by the BCS Digital Divide Specialist Group\n[wpdm_package id='3083']
ATTACH;FMTTYPE=image/jpeg:https://oxon.bcs.org/wp-content/uploads/2023/09/
 LearningLLM_thumb.jpg
CATEGORIES:Virtual Only Event
END:VEVENT
BEGIN:VTIMEZONE
TZID:Europe/London
X-LIC-LOCATION:Europe/London
BEGIN:DAYLIGHT
DTSTART:20240331T020000
TZOFFSETFROM:+0000
TZOFFSETTO:+0100
TZNAME:BST
END:DAYLIGHT
END:VTIMEZONE
END:VCALENDAR