BEGIN:VCALENDAR
VERSION:2.0
PRODID:-//wp-events-plugin.com//7.2.3.1//EN
TZID:Europe/London
X-WR-TIMEZONE:Europe/London
BEGIN:VEVENT
UID:73@oxon.bcs.org
DTSTART;TZID=Europe/London:20230209T193000
DTEND;TZID=Europe/London:20230209T210000
DTSTAMP:20230203T123917Z
URL:https://oxon.bcs.org/programme/modelling-and-engineering-covid-digital
 -contact-tracing/
SUMMARY:Modelling and Engineering Covid Digital Contact Tracing
DESCRIPTION:\nDr Robert Hinch &amp\; Adam Fowler\, Big Data Institute\, Uni
 versity of Oxford\nSARS-CoV2 emerged in late-2019 in Wuhan and quickly spr
 ead causing a global pandemic\, with current estimates of total fatalities
  exceeding 20 million. When no vaccines are available\, a standard way to 
 control an infectious disease epidemic is to isolate cases and then trace 
 close contacts of the case to search for onward transmissions. This proces
 s will often take multiple days and is very effective in controlling some 
 infectious diseases. However\, for SARS-CoV2 the time between being infect
 ed by the virus and being able to transmit it is only a few days\, with so
 me transmissions occurring prior to the individual developing symptoms. Th
 erefore\, for contact-tracing to be effective for SARS-CoV2\, it must be v
 ery rapid with contacts being identified and notified in hours as opposed 
 to days. This requirement led to the creation of digital contact tracing\,
  whereby contacts between individuals are recorded by Bluetooth signals be
 ing exchanged between mobile phones. In this talk we discuss the developme
 nt of digital contact tracing\, the modelling of its effectiveness and the
  engineering of the phone applications.\n\nHybrid Meeting\n\nThis event wi
 ll be held both “in person” and “via Zoom”.\n\n“In Person” L
 ogistics\n\nThe “in person” meeting will be held at our new meeting pl
 ace: Rewley House\, 1 Wellington Square\, Oxford OX1 2JA. The meeting will
  commence at 7:30pm\, and an assortment of light refreshments will be avai
 lable beforehand. Please register for the event as usual using the Eventbr
 ite link on the website or via MeetUp\, where you will be able to indicate
  whether you are attending via Zoom or in person.\n\nCOVID-19\n\nBCS is fo
 llowing government guidelines and we would ask attendees to continue to al
 so follow these guidelines. Please go to https://www.nhs.uk/conditions/cor
 onavirus-covid-19/ for more information\, advice\, and instructions.
ATTACH;FMTTYPE=image/jpeg:https://oxon.bcs.org/wp-content/uploads/2022/08/
 tracktrace_thumb.jpg
CATEGORIES:Hybrid Event
LOCATION:Rewley House\, 1 Wellington Square\, Oxford\, Oxfordshire\, OX1 2J
 A\, United Kingdom
X-APPLE-STRUCTURED-LOCATION;VALUE=URI;X-ADDRESS=1 Wellington Square\, Oxfor
 d\, Oxfordshire\, OX1 2JA\, United Kingdom;X-APPLE-RADIUS=100;X-TITLE=Rewl
 ey House:geo:0,0
END:VEVENT
BEGIN:VTIMEZONE
TZID:Europe/London
X-LIC-LOCATION:Europe/London
BEGIN:STANDARD
DTSTART:20221030T010000
TZOFFSETFROM:+0100
TZOFFSETTO:+0000
TZNAME:GMT
END:STANDARD
END:VTIMEZONE
END:VCALENDAR