BEGIN:VCALENDAR
VERSION:2.0
PRODID:-//wp-events-plugin.com//7.2.3.1//EN
TZID:Europe/London
X-WR-TIMEZONE:Europe/London
BEGIN:VEVENT
UID:85@oxon.bcs.org
DTSTART;TZID=Europe/London:20240320T193000
DTEND;TZID=Europe/London:20240320T210000
DTSTAMP:20240219T200607Z
URL:https://oxon.bcs.org/programme/the-social-and-cultural-impact-of-the-i
 nternet-a-british-perspective/
SUMMARY:The social and cultural impact of the internet: A British perspecti
 ve
DESCRIPTION:\nGrant Blank\, Visitor at Oxford Internet Institute &amp\; Sen
 ior Research Fellow of Harris Manchester College\nThe United Kingdom has a
 lways been one of the world leaders in Internet use. I will talk about the
  current state of Internet use in the UK\, with emphasis on trends in Inte
 rnet use and the digital divide. The conclusion will summarize some of the
  current issues in digital divide research.\nBio\nGrant Blank (Ph.D. Unive
 rsity of Chicago) is a Visitor at the Oxford Internet Institute and Senior
  Research Fellow of Harris Manchester College\, both part of the Universit
 y of Oxford\, United Kingdom. He is a sociologist specializing in the soci
 al and cultural impact of the Internet\, the digital divide\, statistical 
 and qualitative methods\, and cultural sociology. Author or co-author of a
 bout 60 papers and six books\, in 2015 he was awarded the Lifetime Achieve
 ment Award from the Communication\, Information Technology and Media Socio
 logy section of the American Sociological Association. He can be reached a
 t grant.blank@gmail.com\; see https://www.linkedin.com/in/grantblank/\n\nH
 ybrid Meeting\n\nThis event will be held both “in person” and “via
  Zoom”.\n\n“In Person” Logistics\n\nThe “in person” meeting will
  be held at our new meeting place: Rewley House\, 1 Wellington Square\, Ox
 ford OX1 2JA. The meeting will commence at 7:30pm\, and an assortment of l
 ight refreshments will be available beforehand. Please register for the ev
 ent as usual using the Eventbrite link on the website or via MeetUp\, wher
 e you will be able to indicate whether you are attending via Zoom or in pe
 rson.\n\nCOVID-19\n\nBCS is following government guidelines and we would a
 sk attendees to continue to also follow these guidelines. Please go to ht
 tps://www.nhs.uk/conditions/coronavirus-covid-19/ for more information\, 
 advice\, and instructions.
ATTACH;FMTTYPE=image/jpeg:https://oxon.bcs.org/wp-content/uploads/2023/10/
 british-internet-thumb.jpg
CATEGORIES:Hybrid Event
LOCATION:Rewley House\, 1 Wellington Square\, Oxford\, Oxfordshire\, OX1 2J
 A\, United Kingdom
X-APPLE-STRUCTURED-LOCATION;VALUE=URI;X-ADDRESS=1 Wellington Square\, Oxfor
 d\, Oxfordshire\, OX1 2JA\, United Kingdom;X-APPLE-RADIUS=100;X-TITLE=Rewl
 ey House:geo:0,0
END:VEVENT
BEGIN:VTIMEZONE
TZID:Europe/London
X-LIC-LOCATION:Europe/London
BEGIN:STANDARD
DTSTART:20231029T010000
TZOFFSETFROM:+0100
TZOFFSETTO:+0000
TZNAME:GMT
END:STANDARD
END:VTIMEZONE
END:VCALENDAR